BEGIN:VCALENDAR
PRODID:-//eluceo/ical//2.0/EN
VERSION:2.0
CALSCALE:GREGORIAN
BEGIN:VEVENT
UID:f8b13e12463da901d6e144d04b85c607
DTSTAMP:20260423T090013Z
SUMMARY:Propos de table
DESCRIPTION:
URL:https://montagnes-neuchateloises.rotary1990.ch/es/agenda/show/13258
DTSTART;TZID=Europe/Zurich:20100127T121500
DTEND;TZID=Europe/Zurich:20100127T121500
LOCATION:-
CATEGORIES:Rotary
END:VEVENT
BEGIN:VTIMEZONE
TZID:Europe/Zurich
BEGIN:STANDARD
DTSTART:20100127T121500
TZNAME:CET
TZOFFSETTO:+0100
TZOFFSETFROM:+0100
END:STANDARD
END:VTIMEZONE
END:VCALENDAR
