BEGIN:VCALENDAR
PRODID:-//eluceo/ical//2.0/EN
VERSION:2.0
CALSCALE:GREGORIAN
BEGIN:VEVENT
UID:eca7da2e183de8892c8012e52f463701
DTSTAMP:20260423T084736Z
SUMMARY:Conf. M. Denis Oswald \, membre de la commission exécutif du CIO
DESCRIPTION:
URL:https://montagnes-neuchateloises.rotary1990.ch/es/agenda/show/13257
DTSTART;TZID=Europe/Zurich:20100120T121500
DTEND;TZID=Europe/Zurich:20100120T121500
LOCATION:La Croisette Le Locle
CATEGORIES:Rotary
END:VEVENT
BEGIN:VTIMEZONE
TZID:Europe/Zurich
BEGIN:STANDARD
DTSTART:20100120T121500
TZNAME:CET
TZOFFSETTO:+0100
TZOFFSETFROM:+0100
END:STANDARD
END:VTIMEZONE
END:VCALENDAR
